BEGIN:VCALENDAR
VERSION:2.0
PRODID:-//Tukios.com/
BEGIN:VEVENT
UID:4a8b1806-3b84-447a-b966-92230aac7075@www.pietszak.com
DTSTAMP:20260424T025149Z
DTSTART:20260501T200000Z
DTEND:20260501T230000Z
SUMMARY:Celebration of Life
DESCRIPTION:
URL:https://www.pietszak.com/obituaries/elaine-juszkiewicz
LOCATION:Pietszak Funeral Home 2400 William St  Cheektowaga NY 14206
GEO:42.8844279;-78.7818612
END:VEVENT
END:VCALENDAR