BEGIN:VCALENDAR
VERSION:2.0
PRODID:-//Tukios.com/
BEGIN:VEVENT
UID:97cf7f9d-ec71-4c7b-94e7-825cedb6ff2b@www.pietszak.com
DTSTAMP:20260424T025252Z
DTSTART:20260502T140000Z
DTEND:20260502T150000Z
SUMMARY:Mass
DESCRIPTION:
URL:https://www.pietszak.com/obituaries/elaine-juszkiewicz
LOCATION: 4125 Union Rd  Cheektowaga NY 14225
GEO:42.926809;-78.7534865
END:VEVENT
END:VCALENDAR