BEGIN:VCALENDAR
VERSION:2.0
PRODID:-//Tukios.com/
BEGIN:VEVENT
UID:6bf1e1d5-bce4-4309-8288-7b21a1bd56b9@www.pietszak.com
DTSTAMP:20260424T025907Z
DTSTART:20260502T150000Z
DTEND:20260502T160000Z
SUMMARY:Inurnment
DESCRIPTION:
URL:https://www.pietszak.com/obituaries/elaine-juszkiewicz
LOCATION:Our Lady Help of Christians Cemetery 4125 Union Rd  Cheektowaga 
	NY 14225
GEO:42.926809;-78.7534865
END:VEVENT
END:VCALENDAR