BEGIN:VCALENDAR
VERSION:2.0
PRODID:-//Tukios.com/
BEGIN:VEVENT
UID:d71f9b29-e985-4065-9514-738d99513fd4@www.pietszak.com
DTSTAMP:20260422T210801Z
DTSTART:20260427T190000Z
DTEND:20260427T230000Z
SUMMARY:Visitation
DESCRIPTION:
URL:https://www.pietszak.com/obituaries/gregory-miller
LOCATION:Pietszak Funeral Home 2400 William St  Cheektowaga NY 14206
GEO:42.8844279;-78.7818612
END:VEVENT
END:VCALENDAR