BEGIN:VCALENDAR
VERSION:2.0
PRODID:-//Tukios.com/
BEGIN:VEVENT
UID:269f8d76-679f-4627-bbdd-488b8286b8aa@www.pietszak.com
DTSTAMP:20260422T210923Z
DTSTART:20260428T133000Z
DTEND:20260428T143000Z
SUMMARY:Mass
DESCRIPTION:
URL:https://www.pietszak.com/obituaries/gregory-miller
LOCATION:St. Gabriel’s Church 5271 Clinton Street  Elma NY 14059
GEO:42.8607904;-78.6889404
END:VEVENT
END:VCALENDAR